BEGIN:VCALENDAR
METHOD:PUBLISH
VERSION:2.0
PRODID:-//hacksw/handcal//NONSGML v1.0//EN
X-WR-TIMEZONE:Australia/Melbourne
CALSCALE:GREGORIAN
BEGIN:VEVENT
DTSTART;TZID=Australia/Melbourne:20260524T090000
DTEND;TZID=Australia/Melbourne:20260524T133000
UID:1243784591069E85A3A458DA2717246601599151617069E85A3A458ED1017968
DTSTAMP:20260423T001916
LOCATION:1 Beaufort St Mitcham
DESCRIPTION:Service Day Sunday 24th MayWhat\'s the best way to learn about
  your MOKE?How it works ….. and of course….how to fix it if something 
 goes wrong!Improvements, niggling problems, repairs?  Bring your Moke, you
 r parts, your questions, you\'re welcome!New members- please consider popp
 ing in-it will be worth it!BBQ lunch supplied … but please let us know i
 f you\'re coming-for catering! ALL WELCOME! From 9am - 1 Beaufort St Mitch
 am Ron Dickson Ph: 0407 323 879
URL;VALUE=URI:http://moke.org.au/events/view.php?id=1243784591069E85A3A458
 DA2717246601599151617069E85A3A458ED1017968
SUMMARY:Service Day at Ron\'s
END:VEVENT
END:VCALENDAR
