BEGIN:VCALENDAR
METHOD:PUBLISH
VERSION:2.0
PRODID:-//hacksw/handcal//NONSGML v1.0//EN
X-WR-TIMEZONE:Australia/Melbourne
CALSCALE:GREGORIAN
BEGIN:VEVENT
DTSTART;TZID=Australia/Melbourne:20260530T074500
DTEND;TZID=Australia/Melbourne:20260530T143000
UID:355367122069E85C1A56256322356945355367122069E85C1A56267095351001
DTSTAMP:20260423T002331
LOCATION:Winton Raceway 
DESCRIPTION: Important information to those attending the Historic Winton 
 event on 30 & 31 May 2026 - Can we please have all Mokes meet at the Benal
 la Gliding Club of Victoria carpark at 7:45AM on the morning of the 30th s
 o that your tickets may be handed out and we can head into the event toget
 her and park as a group. We will be leaving the Gliding Club at 8AM sharp.
  The show opens to the public at 8:30.Thankyou and we hope to see you ther
 e!  
URL;VALUE=URI:http://moke.org.au/events/view.php?id=355367122069E85C1A5625
 6322356945355367122069E85C1A56267095351001
SUMMARY:Historic Winton
END:VEVENT
END:VCALENDAR
