BEGIN:VCALENDAR
METHOD:PUBLISH
VERSION:2.0
PRODID:-//hacksw/handcal//NONSGML v1.0//EN
X-WR-TIMEZONE:Australia/Melbourne
CALSCALE:GREGORIAN
BEGIN:VEVENT
DTSTART;TZID=Australia/Melbourne:20260520T120000
DTEND;TZID=Australia/Melbourne:20260520T140000
UID:710733963269E8595CA167A1451309121599151417269E8595CA168F66712525
DTSTAMP:20260423T002535
LOCATION:Blue Mini Cafe 2 Colchester Rd Rosebud.
DESCRIPTION:3WMCG - Lwr Mornington Peninsula Wednesday 20th May Blue Mini 
 Cafe ….. 2 Colchester Rd ….. Rosebud...12pm until 2pm.[keeping Moke ap
 propriate and using a blue Moke instead of a blue mini!] As promised a lun
 ch trip to the lower Mornington Peninsula at Rosebud in a very unique eate
 ry located in the old 10 pin bowling alley with good food & drinks (licens
 ed) and very, very good coffee.....As always numbers are important and the
  booking is for 14 with the flexibility to go up or down in numbers.....an
 d plenty of parking and if for some reason you are unable to arrive in you
 r Moke.....OVs are welcome, it is about the lunch.See you there. Glenn Gol
 ds 497L. Phone 0468 799 437
URL;VALUE=URI:http://moke.org.au/events/view.php?id=710733963269E8595CA167
 A1451309121599151417269E8595CA168F66712525
SUMMARY:3WMCG – Lwr Mornington Peninsula
END:VEVENT
END:VCALENDAR
