BEGIN:VCALENDAR
METHOD:PUBLISH
VERSION:2.0
PRODID:-//hacksw/handcal//NONSGML v1.0//EN
X-WR-TIMEZONE:Australia/Melbourne
CALSCALE:GREGORIAN
BEGIN:VEVENT
DTSTART;TZID=Australia/Melbourne:20260426T140000
DTEND;TZID=Australia/Melbourne:20260426T170000
UID:888417125569E856CBD9D6F1017701771599150825969E856CBD9D8282883653
DTSTAMP:20260423T002841
LOCATION:Moke Clubrooms - Factory 8, 41 Norcal Rd, Nunawading
DESCRIPTION:Let\'s get together and line up as many Mokes as we can while 
 we enjoy some social time and a nice afternoon tea.The club will cater the
  food & drinks and we encourage you to bring along any memoriabilia and sh
 are your Moking stories.We will need to know if you are coming for caterin
 g purposes.So please contact our Events man Richard on 0414 999 837 or Rho
 nda on 0419 580 924Looking forward to seeing you all there!No matter what 
 the weather-please try to bring your MOKE! 
URL;VALUE=URI:http://moke.org.au/events/view.php?id=888417125569E856CBD9D6
 F1017701771599150825969E856CBD9D8282883653
SUMMARY:60 Years of Moking in Australia
END:VEVENT
END:VCALENDAR
